BEGIN:VCALENDAR
VERSION:2.0
PRODID:-//Unificato - ECPv6.15.16//NONSGML v1.0//EN
CALSCALE:GREGORIAN
METHOD:PUBLISH
X-WR-CALNAME:Unificato
X-ORIGINAL-URL:https://www.unificato.it
X-WR-CALDESC:Eventi per Unificato
REFRESH-INTERVAL;VALUE=DURATION:PT1H
X-Robots-Tag:noindex
X-PUBLISHED-TTL:PT1H
BEGIN:VTIMEZONE
TZID:Europe/Rome
BEGIN:DAYLIGHT
TZOFFSETFROM:+0100
TZOFFSETTO:+0200
TZNAME:CEST
DTSTART:20230326T010000
END:DAYLIGHT
BEGIN:STANDARD
TZOFFSETFROM:+0200
TZOFFSETTO:+0100
TZNAME:CET
DTSTART:20231029T010000
END:STANDARD
BEGIN:DAYLIGHT
TZOFFSETFROM:+0100
TZOFFSETTO:+0200
TZNAME:CEST
DTSTART:20240331T010000
END:DAYLIGHT
BEGIN:STANDARD
TZOFFSETFROM:+0200
TZOFFSETTO:+0100
TZNAME:CET
DTSTART:20241027T010000
END:STANDARD
BEGIN:DAYLIGHT
TZOFFSETFROM:+0100
TZOFFSETTO:+0200
TZNAME:CEST
DTSTART:20250330T010000
END:DAYLIGHT
BEGIN:STANDARD
TZOFFSETFROM:+0200
TZOFFSETTO:+0100
TZNAME:CET
DTSTART:20251026T010000
END:STANDARD
END:VTIMEZONE
BEGIN:VEVENT
DTSTART;TZID=Europe/Rome:20241011T080000
DTEND;TZID=Europe/Rome:20241012T170000
DTSTAMP:20260423T102557
CREATED:20240604T131259Z
LAST-MODIFIED:20240930T085804Z
UID:61226-1728633600-1728752400@www.unificato.it
SUMMARY:BOPHILEX - S. Lazzaro di Savena Ottobre 2024
DESCRIPTION:UNIFICATO sarà presente al convegno commerciale di filatelia\, numismatica\, cartoline\, storia postale\, telecarte\npresso il Palasavena di S. Lazzaro di Savena\, Via Caselle\, 26\, 40068 San Lazzaro di Savena (BO).\n\nINGRESSO GRATUITO\n\nVenerdì 11 ottobre 2024: dalle 10:00 alle 18:00\nSabato 12 ottobre 2024: dalle 09:00 alle 17:00 \nCOME ARRIVARE \n\n\n\nNAVETTA GRATUITA dalla STAZIONE CENTRALE DI BOLGNA (uscita  Via de Carracci) al convegno;\nOgni ora\, orario continuato dalle 9-17. \nIn Autobus: linea 19C (fermata Caselle) – linee 19 / 9o / 94 / 101 /fermata San Lazzaro Municipio)\nIn Treno: fermata San Lazzaro di Savena – la fermata si trova a circa 300 m dal PalaSavena\nIn Macchina: Autostrada uscita San Lazzaro di Savena – Tangenziale uscita 13\, poi seguire direzione CENTRO\nL’ingresso e il parcheggio saranno gratuiti. \nPER INFO \n\n\n>TEL. 388.4010777\n>E-MAIL: convegno.bophilex@gmail.com\n\n@Bophilex
URL:https://www.unificato.it/evento/bophilex-s-lazzaro-di-savena-ottobre-2024/
LOCATION:Palasavena-San Lazzaro\, Via Caselle 26\, San Lazzaro di Savena BO\, 40068\, Italia
ATTACH;FMTTYPE=image/jpeg:https://www.unificato.it/wp-content/uploads/2024/02/Bophilex-600x599-1.jpg
END:VEVENT
END:VCALENDAR